BEGIN:VCALENDAR
VERSION:2.0
PRODID:-//Barbour Community Health Association - ECPv6.15.20//NONSGML v1.0//EN
CALSCALE:GREGORIAN
METHOD:PUBLISH
X-ORIGINAL-URL:https://barbourhealth.org
X-WR-CALDESC:Events for Barbour Community Health Association
REFRESH-INTERVAL;VALUE=DURATION:PT1H
X-Robots-Tag:noindex
X-PUBLISHED-TTL:PT1H
BEGIN:VTIMEZONE
TZID:America/New_York
BEGIN:DAYLIGHT
TZOFFSETFROM:-0500
TZOFFSETTO:-0400
TZNAME:EDT
DTSTART:20240310T070000
END:DAYLIGHT
BEGIN:STANDARD
TZOFFSETFROM:-0400
TZOFFSETTO:-0500
TZNAME:EST
DTSTART:20241103T060000
END:STANDARD
BEGIN:DAYLIGHT
TZOFFSETFROM:-0500
TZOFFSETTO:-0400
TZNAME:EDT
DTSTART:20250309T070000
END:DAYLIGHT
BEGIN:STANDARD
TZOFFSETFROM:-0400
TZOFFSETTO:-0500
TZNAME:EST
DTSTART:20251102T060000
END:STANDARD
BEGIN:DAYLIGHT
TZOFFSETFROM:-0500
TZOFFSETTO:-0400
TZNAME:EDT
DTSTART:20260308T070000
END:DAYLIGHT
BEGIN:STANDARD
TZOFFSETFROM:-0400
TZOFFSETTO:-0500
TZNAME:EST
DTSTART:20261101T060000
END:STANDARD
END:VTIMEZONE
BEGIN:VEVENT
DTSTART;TZID=America/New_York:20251021T083000
DTEND;TZID=America/New_York:20251021T160000
DTSTAMP:20260425T082758
CREATED:20240923T154918Z
LAST-MODIFIED:20251023T124933Z
UID:10000114-1761035400-1761062400@barbourhealth.org
SUMMARY:Walk-In Flu Vaccines @ Belington Clinic
DESCRIPTION:Your health helps keep our whole community strong. Come to our free flu vaccine clinic and get protected this season. Everyone is welcome—no appointment or insurance required. Stay healthy and keep your community safe!
URL:https://barbourhealth.org/event/walk-in-flu-vaccines-belington-clinic/2025-10-21/
LOCATION:Belington Medical Clinic\, 70 North Sturmer Street\, Belington\, WV\, 26250\, United States
CATEGORIES:Vaccinations
ATTACH;FMTTYPE=image/jpeg:https://barbourhealth.org/wp-content/uploads/2025/09/smiling-patient.jpg
END:VEVENT
BEGIN:VEVENT
DTSTART;TZID=America/New_York:20251021T083000
DTEND;TZID=America/New_York:20251021T160000
DTSTAMP:20260425T082758
CREATED:20250923T154801Z
LAST-MODIFIED:20251023T124856Z
UID:10000005-1761035400-1761062400@barbourhealth.org
SUMMARY:Walk-In Flu Vaccines @ Myers Clinic
DESCRIPTION:Your health helps keep our whole community strong. Come to our free flu vaccine clinic and get protected this season. Everyone is welcome—no appointment or insurance required. Stay healthy and keep your community safe!
URL:https://barbourhealth.org/event/walk-in-flu-vaccines-myers-clinic/2025-10-21/
LOCATION:Myers Clinic\, 116 McClellan Road\, Philippi\, WV\, 26416\, United States
CATEGORIES:Vaccinations
ATTACH;FMTTYPE=image/jpeg:https://barbourhealth.org/wp-content/uploads/2025/09/checking-in.jpg
END:VEVENT
BEGIN:VEVENT
DTSTART;TZID=America/New_York:20251021T090000
DTEND;TZID=America/New_York:20251021T100000
DTSTAMP:20260425T082758
CREATED:20251017T171653Z
LAST-MODIFIED:20251223T175129Z
UID:10005600-1761037200-1761040800@barbourhealth.org
SUMMARY:Chair Yoga
DESCRIPTION:Find balance\, strength\, and relaxation in Chair Yoga\, offered Monday through Friday at 9 a.m. at the 17 North Event Center. This accessible class uses a chair for support\, allowing participants of all levels to safely stretch\, strengthen\, and center themselves. Enjoy a calming practice that promotes flexibility\, posture\, and overall well-being. \nFrom improving mobility to reducing stress\, Chair Yoga offers a restorative experience for mind and body. Join us daily to cultivate strength\, relaxation\, and a sense of calm in a welcoming environment.
URL:https://barbourhealth.org/event/chair-yoga/2025-10-21/
LOCATION:Midtown on Main Street\, 17 North Main Street\, Philippi\, WV\, 26416\, United States
CATEGORIES:Wellness Class
ATTACH;FMTTYPE=image/jpeg:https://barbourhealth.org/wp-content/uploads/2025/10/17-North-Website_Logo.jpg
END:VEVENT
BEGIN:VEVENT
DTSTART;TZID=America/New_York:20251021T100000
DTEND;TZID=America/New_York:20251021T110000
DTSTAMP:20260425T082758
CREATED:20251017T164243Z
LAST-MODIFIED:20251223T174859Z
UID:10001687-1761040800-1761044400@barbourhealth.org
SUMMARY:Water Aerobics
DESCRIPTION:Make a splash with Water Aerobics at the Belington Wellness Center — offered Monday through Thursday at 10 a.m.! This fun\, low-impact workout uses the resistance of water to improve strength\, flexibility\, and heart health without added stress on your joints. It’s a refreshing way to stay active\, boost energy\, and connect with others in a supportive environment.
URL:https://barbourhealth.org/event/water-aerobics/2025-10-21/
LOCATION:Belington Wellness Center\, 70 North Sturmer Street\, Belington\, WV\, 26250\, United States
CATEGORIES:Wellness Class
ATTACH;FMTTYPE=image/jpeg:https://barbourhealth.org/wp-content/uploads/2025/10/Belington-Wellness-Center-Sign-e1762459244419.jpg
END:VEVENT
BEGIN:VEVENT
DTSTART;TZID=America/New_York:20251021T150000
DTEND;TZID=America/New_York:20251021T180000
DTSTAMP:20260425T082758
CREATED:20251017T164658Z
LAST-MODIFIED:20251223T175223Z
UID:10002731-1761058800-1761069600@barbourhealth.org
SUMMARY:Family Open Swim
DESCRIPTION:Enjoy some quality time in the water during Family Open Swim at the Belington Wellness Center\, available Monday through Friday from 3–6 p.m. Families of all ages are welcome to swim\, play\, and relax in a safe\, friendly environment. It’s a great way to unwind after the day\, stay active together\, and build lasting memories in the pool. \nCertified lifeguards are on duty to ensure a safe and enjoyable experience for everyone. Whether you’re practicing swimming skills\, playing pool games\, or simply floating and relaxing\, there’s something for the whole family to enjoy. Come spend your afternoons with us and make the most of your time together in a welcoming\, community-focused setting.
URL:https://barbourhealth.org/event/family-open-swim/2025-10-21/
LOCATION:Belington Wellness Center\, 70 North Sturmer Street\, Belington\, WV\, 26250\, United States
CATEGORIES:Wellness Class
ATTACH;FMTTYPE=image/jpeg:https://barbourhealth.org/wp-content/uploads/2025/10/Belington-Wellness-Center-Sign-e1762459244419.jpg
END:VEVENT
BEGIN:VEVENT
DTSTART;TZID=America/New_York:20251022T090000
DTEND;TZID=America/New_York:20251022T100000
DTSTAMP:20260425T082758
CREATED:20251017T171653Z
LAST-MODIFIED:20251223T175129Z
UID:10005601-1761123600-1761127200@barbourhealth.org
SUMMARY:Chair Yoga
DESCRIPTION:Find balance\, strength\, and relaxation in Chair Yoga\, offered Monday through Friday at 9 a.m. at the 17 North Event Center. This accessible class uses a chair for support\, allowing participants of all levels to safely stretch\, strengthen\, and center themselves. Enjoy a calming practice that promotes flexibility\, posture\, and overall well-being. \nFrom improving mobility to reducing stress\, Chair Yoga offers a restorative experience for mind and body. Join us daily to cultivate strength\, relaxation\, and a sense of calm in a welcoming environment.
URL:https://barbourhealth.org/event/chair-yoga/2025-10-22/
LOCATION:Midtown on Main Street\, 17 North Main Street\, Philippi\, WV\, 26416\, United States
CATEGORIES:Wellness Class
ATTACH;FMTTYPE=image/jpeg:https://barbourhealth.org/wp-content/uploads/2025/10/17-North-Website_Logo.jpg
END:VEVENT
BEGIN:VEVENT
DTSTART;TZID=America/New_York:20251022T100000
DTEND;TZID=America/New_York:20251022T110000
DTSTAMP:20260425T082758
CREATED:20251017T164243Z
LAST-MODIFIED:20251223T174859Z
UID:10001688-1761127200-1761130800@barbourhealth.org
SUMMARY:Water Aerobics
DESCRIPTION:Make a splash with Water Aerobics at the Belington Wellness Center — offered Monday through Thursday at 10 a.m.! This fun\, low-impact workout uses the resistance of water to improve strength\, flexibility\, and heart health without added stress on your joints. It’s a refreshing way to stay active\, boost energy\, and connect with others in a supportive environment.
URL:https://barbourhealth.org/event/water-aerobics/2025-10-22/
LOCATION:Belington Wellness Center\, 70 North Sturmer Street\, Belington\, WV\, 26250\, United States
CATEGORIES:Wellness Class
ATTACH;FMTTYPE=image/jpeg:https://barbourhealth.org/wp-content/uploads/2025/10/Belington-Wellness-Center-Sign-e1762459244419.jpg
END:VEVENT
BEGIN:VEVENT
DTSTART;TZID=America/New_York:20251022T101500
DTEND;TZID=America/New_York:20251022T111500
DTSTAMP:20260425T082758
CREATED:20251017T171815Z
LAST-MODIFIED:20251223T175157Z
UID:10006904-1761128100-1761131700@barbourhealth.org
SUMMARY:Seated & Standing Cardio
DESCRIPTION:Stay active and energized with Seated Standing Cardio\, held Monday\, Wednesday\, and Friday at 10:15 a.m. at the 17N Event Center. This low-impact workout combines seated and standing exercises to improve heart health\, strength\, and endurance in a safe and supportive setting. It’s ideal for participants looking for a fun\, effective way to stay fit at any level. \nThe class is designed to be both challenging and enjoyable\, giving you the opportunity to move at your own pace. With a friendly and encouraging atmosphere\, participants can focus on fitness while having fun. Join us and take steps toward better health\, increased energy\, and a more active lifestyle.
URL:https://barbourhealth.org/event/seated-standing-cardio/2025-10-22/
LOCATION:Midtown on Main Street\, 17 North Main Street\, Philippi\, WV\, 26416\, United States
CATEGORIES:Wellness Class
ATTACH;FMTTYPE=image/jpeg:https://barbourhealth.org/wp-content/uploads/2025/10/17-North-Website_Logo.jpg
END:VEVENT
BEGIN:VEVENT
DTSTART;TZID=America/New_York:20251022T150000
DTEND;TZID=America/New_York:20251022T180000
DTSTAMP:20260425T082758
CREATED:20251017T164658Z
LAST-MODIFIED:20251223T175223Z
UID:10002732-1761145200-1761156000@barbourhealth.org
SUMMARY:Family Open Swim
DESCRIPTION:Enjoy some quality time in the water during Family Open Swim at the Belington Wellness Center\, available Monday through Friday from 3–6 p.m. Families of all ages are welcome to swim\, play\, and relax in a safe\, friendly environment. It’s a great way to unwind after the day\, stay active together\, and build lasting memories in the pool. \nCertified lifeguards are on duty to ensure a safe and enjoyable experience for everyone. Whether you’re practicing swimming skills\, playing pool games\, or simply floating and relaxing\, there’s something for the whole family to enjoy. Come spend your afternoons with us and make the most of your time together in a welcoming\, community-focused setting.
URL:https://barbourhealth.org/event/family-open-swim/2025-10-22/
LOCATION:Belington Wellness Center\, 70 North Sturmer Street\, Belington\, WV\, 26250\, United States
CATEGORIES:Wellness Class
ATTACH;FMTTYPE=image/jpeg:https://barbourhealth.org/wp-content/uploads/2025/10/Belington-Wellness-Center-Sign-e1762459244419.jpg
END:VEVENT
BEGIN:VEVENT
DTSTART;TZID=America/New_York:20251022T163000
DTEND;TZID=America/New_York:20251022T190000
DTSTAMP:20260425T082758
CREATED:20251017T154902Z
LAST-MODIFIED:20251017T154917Z
UID:10000118-1761150600-1761159600@barbourhealth.org
SUMMARY:Drive-Thru Flu Vaccines @ Belington Clinic
DESCRIPTION:Protect yourself this flu season—without leaving your car! \n\nThis drive-thru flu vaccination clinic at Belington Medical Clinic is open to current patients only. No appointment is needed—just roll up\, roll down your window\, and roll up your sleeve.\n\nStay healthy\, stay safe\, and stop the flu before it starts!
URL:https://barbourhealth.org/event/drive-thru-flu-vaccines-belington-clinic/
LOCATION:Belington Medical Clinic\, 70 North Sturmer Street\, Belington\, WV\, 26250\, United States
CATEGORIES:Vaccinations
ATTACH;FMTTYPE=image/jpeg:https://barbourhealth.org/wp-content/uploads/2025/10/BCHA-22-22.jpg
END:VEVENT
BEGIN:VEVENT
DTSTART;TZID=America/New_York:20251023T090000
DTEND;TZID=America/New_York:20251023T100000
DTSTAMP:20260425T082758
CREATED:20251017T171653Z
LAST-MODIFIED:20251223T175129Z
UID:10005602-1761210000-1761213600@barbourhealth.org
SUMMARY:Chair Yoga
DESCRIPTION:Find balance\, strength\, and relaxation in Chair Yoga\, offered Monday through Friday at 9 a.m. at the 17 North Event Center. This accessible class uses a chair for support\, allowing participants of all levels to safely stretch\, strengthen\, and center themselves. Enjoy a calming practice that promotes flexibility\, posture\, and overall well-being. \nFrom improving mobility to reducing stress\, Chair Yoga offers a restorative experience for mind and body. Join us daily to cultivate strength\, relaxation\, and a sense of calm in a welcoming environment.
URL:https://barbourhealth.org/event/chair-yoga/2025-10-23/
LOCATION:Midtown on Main Street\, 17 North Main Street\, Philippi\, WV\, 26416\, United States
CATEGORIES:Wellness Class
ATTACH;FMTTYPE=image/jpeg:https://barbourhealth.org/wp-content/uploads/2025/10/17-North-Website_Logo.jpg
END:VEVENT
BEGIN:VEVENT
DTSTART;TZID=America/New_York:20251023T100000
DTEND;TZID=America/New_York:20251023T110000
DTSTAMP:20260425T082758
CREATED:20251017T164243Z
LAST-MODIFIED:20251223T174859Z
UID:10001689-1761213600-1761217200@barbourhealth.org
SUMMARY:Water Aerobics
DESCRIPTION:Make a splash with Water Aerobics at the Belington Wellness Center — offered Monday through Thursday at 10 a.m.! This fun\, low-impact workout uses the resistance of water to improve strength\, flexibility\, and heart health without added stress on your joints. It’s a refreshing way to stay active\, boost energy\, and connect with others in a supportive environment.
URL:https://barbourhealth.org/event/water-aerobics/2025-10-23/
LOCATION:Belington Wellness Center\, 70 North Sturmer Street\, Belington\, WV\, 26250\, United States
CATEGORIES:Wellness Class
ATTACH;FMTTYPE=image/jpeg:https://barbourhealth.org/wp-content/uploads/2025/10/Belington-Wellness-Center-Sign-e1762459244419.jpg
END:VEVENT
BEGIN:VEVENT
DTSTART;TZID=America/New_York:20251023T150000
DTEND;TZID=America/New_York:20251023T180000
DTSTAMP:20260425T082758
CREATED:20251017T164658Z
LAST-MODIFIED:20251223T175223Z
UID:10002733-1761231600-1761242400@barbourhealth.org
SUMMARY:Family Open Swim
DESCRIPTION:Enjoy some quality time in the water during Family Open Swim at the Belington Wellness Center\, available Monday through Friday from 3–6 p.m. Families of all ages are welcome to swim\, play\, and relax in a safe\, friendly environment. It’s a great way to unwind after the day\, stay active together\, and build lasting memories in the pool. \nCertified lifeguards are on duty to ensure a safe and enjoyable experience for everyone. Whether you’re practicing swimming skills\, playing pool games\, or simply floating and relaxing\, there’s something for the whole family to enjoy. Come spend your afternoons with us and make the most of your time together in a welcoming\, community-focused setting.
URL:https://barbourhealth.org/event/family-open-swim/2025-10-23/
LOCATION:Belington Wellness Center\, 70 North Sturmer Street\, Belington\, WV\, 26250\, United States
CATEGORIES:Wellness Class
ATTACH;FMTTYPE=image/jpeg:https://barbourhealth.org/wp-content/uploads/2025/10/Belington-Wellness-Center-Sign-e1762459244419.jpg
END:VEVENT
BEGIN:VEVENT
DTSTART;TZID=America/New_York:20251024T090000
DTEND;TZID=America/New_York:20251024T100000
DTSTAMP:20260425T082758
CREATED:20251017T171653Z
LAST-MODIFIED:20251223T175129Z
UID:10005603-1761296400-1761300000@barbourhealth.org
SUMMARY:Chair Yoga
DESCRIPTION:Find balance\, strength\, and relaxation in Chair Yoga\, offered Monday through Friday at 9 a.m. at the 17 North Event Center. This accessible class uses a chair for support\, allowing participants of all levels to safely stretch\, strengthen\, and center themselves. Enjoy a calming practice that promotes flexibility\, posture\, and overall well-being. \nFrom improving mobility to reducing stress\, Chair Yoga offers a restorative experience for mind and body. Join us daily to cultivate strength\, relaxation\, and a sense of calm in a welcoming environment.
URL:https://barbourhealth.org/event/chair-yoga/2025-10-24/
LOCATION:Midtown on Main Street\, 17 North Main Street\, Philippi\, WV\, 26416\, United States
CATEGORIES:Wellness Class
ATTACH;FMTTYPE=image/jpeg:https://barbourhealth.org/wp-content/uploads/2025/10/17-North-Website_Logo.jpg
END:VEVENT
BEGIN:VEVENT
DTSTART;TZID=America/New_York:20251024T101500
DTEND;TZID=America/New_York:20251024T111500
DTSTAMP:20260425T082758
CREATED:20251017T171815Z
LAST-MODIFIED:20251223T175157Z
UID:10006905-1761300900-1761304500@barbourhealth.org
SUMMARY:Seated & Standing Cardio
DESCRIPTION:Stay active and energized with Seated Standing Cardio\, held Monday\, Wednesday\, and Friday at 10:15 a.m. at the 17N Event Center. This low-impact workout combines seated and standing exercises to improve heart health\, strength\, and endurance in a safe and supportive setting. It’s ideal for participants looking for a fun\, effective way to stay fit at any level. \nThe class is designed to be both challenging and enjoyable\, giving you the opportunity to move at your own pace. With a friendly and encouraging atmosphere\, participants can focus on fitness while having fun. Join us and take steps toward better health\, increased energy\, and a more active lifestyle.
URL:https://barbourhealth.org/event/seated-standing-cardio/2025-10-24/
LOCATION:Midtown on Main Street\, 17 North Main Street\, Philippi\, WV\, 26416\, United States
CATEGORIES:Wellness Class
ATTACH;FMTTYPE=image/jpeg:https://barbourhealth.org/wp-content/uploads/2025/10/17-North-Website_Logo.jpg
END:VEVENT
BEGIN:VEVENT
DTSTART;TZID=America/New_York:20251024T150000
DTEND;TZID=America/New_York:20251024T180000
DTSTAMP:20260425T082758
CREATED:20251017T164658Z
LAST-MODIFIED:20251223T175223Z
UID:10002734-1761318000-1761328800@barbourhealth.org
SUMMARY:Family Open Swim
DESCRIPTION:Enjoy some quality time in the water during Family Open Swim at the Belington Wellness Center\, available Monday through Friday from 3–6 p.m. Families of all ages are welcome to swim\, play\, and relax in a safe\, friendly environment. It’s a great way to unwind after the day\, stay active together\, and build lasting memories in the pool. \nCertified lifeguards are on duty to ensure a safe and enjoyable experience for everyone. Whether you’re practicing swimming skills\, playing pool games\, or simply floating and relaxing\, there’s something for the whole family to enjoy. Come spend your afternoons with us and make the most of your time together in a welcoming\, community-focused setting.
URL:https://barbourhealth.org/event/family-open-swim/2025-10-24/
LOCATION:Belington Wellness Center\, 70 North Sturmer Street\, Belington\, WV\, 26250\, United States
CATEGORIES:Wellness Class
ATTACH;FMTTYPE=image/jpeg:https://barbourhealth.org/wp-content/uploads/2025/10/Belington-Wellness-Center-Sign-e1762459244419.jpg
END:VEVENT
BEGIN:VEVENT
DTSTART;TZID=America/New_York:20251025T080000
DTEND;TZID=America/New_York:20251025T100000
DTSTAMP:20260425T082758
CREATED:20251017T165923Z
LAST-MODIFIED:20251223T175042Z
UID:10004817-1761379200-1761386400@barbourhealth.org
SUMMARY:Adult’s Only Open Swim
DESCRIPTION:Enjoy a peaceful\, adult-focused swimming experience with Adult’s Only Open Swim\, Saturdays from 8–10 a.m. at the Belington Wellness Center. Swim laps\, practice techniques\, or simply relax in the pool without distractions\, all in a safe and supportive environment. This is the perfect opportunity to stay active while enjoying some quiet time in the water. \nCertified lifeguards are always on duty to ensure safety and support for all participants. Whether you’re training for fitness or just enjoying a leisurely morning swim\, this class meets a variety of needs. Make it part of your weekend routine and start your Saturday feeling refreshed and revitalized.
URL:https://barbourhealth.org/event/adults-only-open-swim/2025-10-25/
LOCATION:Belington Wellness Center\, 70 North Sturmer Street\, Belington\, WV\, 26250\, United States
CATEGORIES:Wellness Class
ATTACH;FMTTYPE=image/jpeg:https://barbourhealth.org/wp-content/uploads/2025/10/Belington-Wellness-Center-Sign-e1762459244419.jpg
END:VEVENT
BEGIN:VEVENT
DTSTART;TZID=America/New_York:20251025T100000
DTEND;TZID=America/New_York:20251025T120000
DTSTAMP:20260425T082758
CREATED:20251017T170142Z
LAST-MODIFIED:20251223T175109Z
UID:10005078-1761386400-1761393600@barbourhealth.org
SUMMARY:Family Open Swim – Saturdays
DESCRIPTION:Bring the whole family to Family Open Swim\, Saturdays from 10 a.m.–12 p.m. at the Belington Wellness Center. Families of all ages can swim\, play\, and relax together in a safe\, friendly environment. It’s a great way to stay active\, have fun\, and create lasting memories in the pool. \nCertified lifeguards are on duty to ensure a safe and enjoyable experience for everyone. Whether you’re practicing swimming skills\, playing pool games\, or simply floating and relaxing\, there’s something for the whole family to enjoy. Spend your Saturday with us and make the most of your time together in a welcoming\, community-focused setting.
URL:https://barbourhealth.org/event/family-open-swim-saturdays/2025-10-25/
LOCATION:Belington Wellness Center\, 70 North Sturmer Street\, Belington\, WV\, 26250\, United States
CATEGORIES:Wellness Class
ATTACH;FMTTYPE=image/jpeg:https://barbourhealth.org/wp-content/uploads/2025/10/Belington-Wellness-Center-Sign-e1762459244419.jpg
END:VEVENT
END:VCALENDAR