BEGIN:VCALENDAR
VERSION:2.0
PRODID:-//Barbour Community Health Association - ECPv6.15.20//NONSGML v1.0//EN
CALSCALE:GREGORIAN
METHOD:PUBLISH
X-ORIGINAL-URL:https://barbourhealth.org
X-WR-CALDESC:Events for Barbour Community Health Association
REFRESH-INTERVAL;VALUE=DURATION:PT1H
X-Robots-Tag:noindex
X-PUBLISHED-TTL:PT1H
BEGIN:VTIMEZONE
TZID:America/New_York
BEGIN:DAYLIGHT
TZOFFSETFROM:-0500
TZOFFSETTO:-0400
TZNAME:EDT
DTSTART:20240310T070000
END:DAYLIGHT
BEGIN:STANDARD
TZOFFSETFROM:-0400
TZOFFSETTO:-0500
TZNAME:EST
DTSTART:20241103T060000
END:STANDARD
BEGIN:DAYLIGHT
TZOFFSETFROM:-0500
TZOFFSETTO:-0400
TZNAME:EDT
DTSTART:20250309T070000
END:DAYLIGHT
BEGIN:STANDARD
TZOFFSETFROM:-0400
TZOFFSETTO:-0500
TZNAME:EST
DTSTART:20251102T060000
END:STANDARD
BEGIN:DAYLIGHT
TZOFFSETFROM:-0500
TZOFFSETTO:-0400
TZNAME:EDT
DTSTART:20260308T070000
END:DAYLIGHT
BEGIN:STANDARD
TZOFFSETFROM:-0400
TZOFFSETTO:-0500
TZNAME:EST
DTSTART:20261101T060000
END:STANDARD
END:VTIMEZONE
BEGIN:VEVENT
DTSTART;TZID=America/New_York:20251021T100000
DTEND;TZID=America/New_York:20251021T110000
DTSTAMP:20260425T140446
CREATED:20251017T164243Z
LAST-MODIFIED:20251223T174859Z
UID:10001687-1761040800-1761044400@barbourhealth.org
SUMMARY:Water Aerobics
DESCRIPTION:Make a splash with Water Aerobics at the Belington Wellness Center — offered Monday through Thursday at 10 a.m.! This fun\, low-impact workout uses the resistance of water to improve strength\, flexibility\, and heart health without added stress on your joints. It’s a refreshing way to stay active\, boost energy\, and connect with others in a supportive environment.
URL:https://barbourhealth.org/event/water-aerobics/2025-10-21/
LOCATION:Belington Wellness Center\, 70 North Sturmer Street\, Belington\, WV\, 26250\, United States
CATEGORIES:Wellness Class
ATTACH;FMTTYPE=image/jpeg:https://barbourhealth.org/wp-content/uploads/2025/10/Belington-Wellness-Center-Sign-e1762459244419.jpg
END:VEVENT
BEGIN:VEVENT
DTSTART;TZID=America/New_York:20251021T090000
DTEND;TZID=America/New_York:20251021T100000
DTSTAMP:20260425T140446
CREATED:20251017T171653Z
LAST-MODIFIED:20251223T175129Z
UID:10005600-1761037200-1761040800@barbourhealth.org
SUMMARY:Chair Yoga
DESCRIPTION:Find balance\, strength\, and relaxation in Chair Yoga\, offered Monday through Friday at 9 a.m. at the 17 North Event Center. This accessible class uses a chair for support\, allowing participants of all levels to safely stretch\, strengthen\, and center themselves. Enjoy a calming practice that promotes flexibility\, posture\, and overall well-being. \nFrom improving mobility to reducing stress\, Chair Yoga offers a restorative experience for mind and body. Join us daily to cultivate strength\, relaxation\, and a sense of calm in a welcoming environment.
URL:https://barbourhealth.org/event/chair-yoga/2025-10-21/
LOCATION:Midtown on Main Street\, 17 North Main Street\, Philippi\, WV\, 26416\, United States
CATEGORIES:Wellness Class
ATTACH;FMTTYPE=image/jpeg:https://barbourhealth.org/wp-content/uploads/2025/10/17-North-Website_Logo.jpg
END:VEVENT
BEGIN:VEVENT
DTSTART;TZID=America/New_York:20251021T083000
DTEND;TZID=America/New_York:20251021T160000
DTSTAMP:20260425T140446
CREATED:20250923T154801Z
LAST-MODIFIED:20251023T124856Z
UID:10000005-1761035400-1761062400@barbourhealth.org
SUMMARY:Walk-In Flu Vaccines @ Myers Clinic
DESCRIPTION:Your health helps keep our whole community strong. Come to our free flu vaccine clinic and get protected this season. Everyone is welcome—no appointment or insurance required. Stay healthy and keep your community safe!
URL:https://barbourhealth.org/event/walk-in-flu-vaccines-myers-clinic/2025-10-21/
LOCATION:Myers Clinic\, 116 McClellan Road\, Philippi\, WV\, 26416\, United States
CATEGORIES:Vaccinations
ATTACH;FMTTYPE=image/jpeg:https://barbourhealth.org/wp-content/uploads/2025/09/checking-in.jpg
END:VEVENT
BEGIN:VEVENT
DTSTART;TZID=America/New_York:20251021T083000
DTEND;TZID=America/New_York:20251021T160000
DTSTAMP:20260425T140446
CREATED:20240923T154918Z
LAST-MODIFIED:20251023T124933Z
UID:10000114-1761035400-1761062400@barbourhealth.org
SUMMARY:Walk-In Flu Vaccines @ Belington Clinic
DESCRIPTION:Your health helps keep our whole community strong. Come to our free flu vaccine clinic and get protected this season. Everyone is welcome—no appointment or insurance required. Stay healthy and keep your community safe!
URL:https://barbourhealth.org/event/walk-in-flu-vaccines-belington-clinic/2025-10-21/
LOCATION:Belington Medical Clinic\, 70 North Sturmer Street\, Belington\, WV\, 26250\, United States
CATEGORIES:Vaccinations
ATTACH;FMTTYPE=image/jpeg:https://barbourhealth.org/wp-content/uploads/2025/09/smiling-patient.jpg
END:VEVENT
BEGIN:VEVENT
DTSTART;TZID=America/New_York:20251016T083000
DTEND;TZID=America/New_York:20251016T160000
DTSTAMP:20260425T140446
CREATED:20250923T154801Z
LAST-MODIFIED:20251023T124856Z
UID:10000004-1760603400-1760630400@barbourhealth.org
SUMMARY:Walk-In Flu Vaccines @ Myers Clinic
DESCRIPTION:Your health helps keep our whole community strong. Come to our free flu vaccine clinic and get protected this season. Everyone is welcome—no appointment or insurance required. Stay healthy and keep your community safe!
URL:https://barbourhealth.org/event/walk-in-flu-vaccines-myers-clinic/2025-10-16/
LOCATION:Myers Clinic\, 116 McClellan Road\, Philippi\, WV\, 26416\, United States
CATEGORIES:Vaccinations
ATTACH;FMTTYPE=image/jpeg:https://barbourhealth.org/wp-content/uploads/2025/09/checking-in.jpg
END:VEVENT
BEGIN:VEVENT
DTSTART;TZID=America/New_York:20251016T083000
DTEND;TZID=America/New_York:20251016T160000
DTSTAMP:20260425T140446
CREATED:20240923T154918Z
LAST-MODIFIED:20251023T124933Z
UID:10000113-1760603400-1760630400@barbourhealth.org
SUMMARY:Walk-In Flu Vaccines @ Belington Clinic
DESCRIPTION:Your health helps keep our whole community strong. Come to our free flu vaccine clinic and get protected this season. Everyone is welcome—no appointment or insurance required. Stay healthy and keep your community safe!
URL:https://barbourhealth.org/event/walk-in-flu-vaccines-belington-clinic/2025-10-16/
LOCATION:Belington Medical Clinic\, 70 North Sturmer Street\, Belington\, WV\, 26250\, United States
CATEGORIES:Vaccinations
ATTACH;FMTTYPE=image/jpeg:https://barbourhealth.org/wp-content/uploads/2025/09/smiling-patient.jpg
END:VEVENT
END:VCALENDAR